BEGIN:VCALENDAR
VERSION:2.0
PRODID:-//Hivents//IT
CALSCALE:GREGORIAN
METHOD:PUBLISH
BEGIN:VEVENT
UID:event-7996@hivents
DTSTAMP:20260425T182622Z
DTSTART;VALUE=DATE:20261229
SUMMARY:Le grandi musiche per il cinema
DESCRIPTION:Le grandi musiche per il cinema
URL:https://www.hivents.it/event/7996/
END:VEVENT
END:VCALENDAR
